BEGIN:VCALENDAR
VERSION:2.0
PRODID:-//NRV Regional Water Authority - ECPv5.16.4//NONSGML v1.0//EN
CALSCALE:GREGORIAN
METHOD:PUBLISH
X-WR-CALNAME:NRV Regional Water Authority
X-ORIGINAL-URL:https://nrvwater.org
X-WR-CALDESC:Events for NRV Regional Water Authority
BEGIN:VTIMEZONE
TZID:UTC
BEGIN:STANDARD
TZOFFSETFROM:+0000
TZOFFSETTO:+0000
TZNAME:UTC
DTSTART:20260101T000000
END:STANDARD
END:VTIMEZONE
BEGIN:VEVENT
DTSTART;TZID=UTC:20260318T150000
DTEND;TZID=UTC:20260318T160000
DTSTAMP:20260421T182138
CREATED:20260217T165639Z
LAST-MODIFIED:20260217T165639Z
UID:2679-1773846000-1773849600@nrvwater.org
SUMMARY:March 2026 Board Meeting
DESCRIPTION:
URL:https://nrvwater.org/event/march-2026-board-meeting/
LOCATION:NRV Regional Water Authority\, 155 Walton Rd\, Radford\, 24141\, United States
ORGANIZER;CN="Caleb%20Taylor":MAILTO:ctaylor@nrvwater.org
END:VEVENT
END:VCALENDAR